BEGIN:VCALENDAR
PRODID:-//AT Content Types//AT Event//EN
VERSION:1.0
BEGIN:VEVENT
DTSTART:20241104T091500Z
DTEND:20241104T120000Z
DCREATED:20241029T142816Z
UID:ATEvent-3ce947ab13164a9983aefd38c81fc18d
SEQUENCE:0
LAST-MODIFIED:20241030T222902Z
SUMMARY:Assemblea Generale: "SCELTE"
LOCATION:Cremona
PRIORITY:3
TRANSP:0
END:VEVENT
END:VCALENDAR
