BEGIN:VCALENDAR
PRODID:-//AT Content Types//AT Event//EN
VERSION:2.0
METHOD:PUBLISH
BEGIN:VEVENT
DTSTAMP:20260425T034838Z
CREATED:20151014T090825Z
UID:ATEvent-a06c2e66dd19490aa5ddc77fa6d92e0d
LAST-MODIFIED:20151014T091131Z
SUMMARY:Assemblea Generale 2015 - Assolombarda Confindustria Milano Monza e Brianza
DTSTART:20151026T141500Z
DTEND:20151026T160000Z
DESCRIPTION:Quest’anno l'Assemblea Generale di Assolombarda Confindu
 stria Milano Monza e Brianza\, si terrà alla presenza del Presidente 
 della Repubblica.
LOCATION:Expo Milano
CLASS:PUBLIC
END:VEVENT
END:VCALENDAR
