BEGIN:VCALENDAR
PRODID:-//AT Content Types//AT Event//EN
VERSION:1.0
BEGIN:VEVENT
DTSTART:20191003T070000Z
DTEND:20191003T103000Z
DCREATED:20190923T101305Z
UID:ATEvent-7d7c80b5f6db474bafe6fd286275ba38
SEQUENCE:0
LAST-MODIFIED:20190923T101313Z
SUMMARY:Assemblea Generale Assolombarda 2019
LOCATION:Milano
PRIORITY:3
TRANSP:0
END:VEVENT
END:VCALENDAR
