BEGIN:VCALENDAR
PRODID:-//AT Content Types//AT Event//EN
VERSION:2.0
METHOD:PUBLISH
BEGIN:VEVENT
DTSTAMP:20260424T063504Z
CREATED:20160708T095313Z
UID:ATEvent-653e038891154d2fa70984634dd24fc9
LAST-MODIFIED:20160708T095336Z
SUMMARY:Assemblea Annuale Giovani Imprenditori - AIB
DTSTART:20160713T134500Z
DTEND:20160713T170000Z
LOCATION:Brescia
CLASS:PUBLIC
END:VEVENT
END:VCALENDAR
