BEGIN:VCALENDAR
PRODID:-//AT Content Types//AT Event//EN
VERSION:1.0
BEGIN:VEVENT
DTSTART:20210421T070000Z
DTEND:20210421T153000Z
DCREATED:20210419T095739Z
UID:ATEvent-38e42047da3344efb16c25b2e0c980d0
SEQUENCE:0
LAST-MODIFIED:20210419T095749Z
SUMMARY:ASEAN: one-to-one Singapore
LOCATION:On line
PRIORITY:3
TRANSP:0
END:VEVENT
END:VCALENDAR
