BEGIN:VCALENDAR
PRODID:-//AT Content Types//AT Event//EN
VERSION:2.0
METHOD:PUBLISH
BEGIN:VEVENT
DTSTAMP:20260425T111151Z
CREATED:20220616T130023Z
UID:ATEvent-85812a34f1ce43f2acedbebf012033b0
LAST-MODIFIED:20220616T131827Z
SUMMARY:Artificial Intelligence: prospettive di sviluppo e nuove opportunità
DTSTART:20220620T120000Z
DTEND:20220620T143000Z
LOCATION:Milano e On line
CLASS:PUBLIC
END:VEVENT
END:VCALENDAR
