BEGIN:VCALENDAR
PRODID:-//AT Content Types//AT Event//EN
VERSION:1.0
BEGIN:VEVENT
DTSTART:20230925T140000Z
DTEND:20230925T163000Z
DCREATED:20230921T085352Z
UID:ATEvent-3c61484db3864737aa6fb94c19120fbe
SEQUENCE:0
LAST-MODIFIED:20230921T090527Z
SUMMARY:Appunti di finanza per le imprese
DESCRIPTION:Primo incontro: "La finanza di debito a supporto della cre
 scita aziendale"
LOCATION:Legnano
PRIORITY:3
TRANSP:0
END:VEVENT
END:VCALENDAR
