BEGIN:VCALENDAR
PRODID:-//AT Content Types//AT Event//EN
VERSION:1.0
BEGIN:VEVENT
DTSTART:20231122T170000Z
DTEND:20231122T180000Z
DCREATED:20231114T180002Z
UID:ATEvent-ab602e15e99f4201ad981ec44a373e92
SEQUENCE:0
LAST-MODIFIED:20231116T110328Z
SUMMARY:Future hour: beatiful data. Come estrarre bellezza e valore dai dati
LOCATION:Bergamo
PRIORITY:3
TRANSP:0
END:VEVENT
END:VCALENDAR
