BEGIN:VCALENDAR
PRODID:-//AT Content Types//AT Event//EN
VERSION:2.0
METHOD:PUBLISH
BEGIN:VEVENT
DTSTAMP:20260425T160522Z
CREATED:20230629T083051Z
UID:ATEvent-3708dc0bf2204f04b44a7c7bf121cc96
LAST-MODIFIED:20230629T091112Z
SUMMARY:Appuntamenti World Café sulla managerializzazione - Come la cultura dell’impresa deve essere premessa del processo di managerializzazione
DTSTART:20230710T130000Z
DTEND:20230710T150000Z
DESCRIPTION:Incontro organizzato dal Gruppo di Lavoro Managerializzazi
 one di Piccola Industria Assolombarda.
LOCATION:Milano
CLASS:PUBLIC
END:VEVENT
END:VCALENDAR
