BEGIN:VCALENDAR
PRODID:-//AT Content Types//AT Event//EN
VERSION:2.0
METHOD:PUBLISH
BEGIN:VEVENT
DTSTAMP:20260424T092334Z
CREATED:20201211T160011Z
UID:ATEvent-f7c8da1253f648908a38ff1c1eaeb364
LAST-MODIFIED:20201211T160023Z
SUMMARY:Approccio comportamentale alla gestione del COVID19 - BBS
DTSTART:20201217T150000Z
DTEND:20201217T160000Z
LOCATION:On line
CLASS:PUBLIC
END:VEVENT
END:VCALENDAR
