BEGIN:VCALENDAR
PRODID:-//AT Content Types//AT Event//EN
VERSION:2.0
METHOD:PUBLISH
BEGIN:VEVENT
DTSTAMP:20260424T054840Z
CREATED:20150923T230002Z
UID:ATEvent-e232c1126eec4ba2b572dc035e8e86e7
LAST-MODIFIED:20150923T230049Z
SUMMARY:Amministrazione del personale: incontro con Gabriele Bonati
DTSTART:20150930T120000Z
DTEND:20150930T160000Z
DESCRIPTION:In collaborazione con il Consiglio Provinciale Consulenti 
 del Lavoro Pavia si terrà un incontro di aggiornamento riguardante l'
 amministrazione del personale.
LOCATION:Pavia
CLASS:PUBLIC
END:VEVENT
END:VCALENDAR
