BEGIN:VCALENDAR
PRODID:-//AT Content Types//AT Event//EN
VERSION:1.0
BEGIN:VEVENT
DTSTART:20160630T120000Z
DTEND:20160630T160000Z
DCREATED:20160610T141505Z
UID:ATEvent-a54f48eedcd44d1384e1061dc4a96d74
SEQUENCE:0
LAST-MODIFIED:20160610T141534Z
SUMMARY:Amministrazione del personale: incontro con Gabriele Bonati
LOCATION:Pavia
PRIORITY:3
TRANSP:0
END:VEVENT
END:VCALENDAR
