BEGIN:VCALENDAR
PRODID:-//AT Content Types//AT Event//EN
VERSION:1.0
BEGIN:VEVENT
DTSTART:20240610T123000Z
DTEND:20240610T143000Z
DCREATED:20240531T203255Z
UID:ATEvent-9f8a98665d894564986fcc4d7675afed
SEQUENCE:0
LAST-MODIFIED:20240531T210844Z
SUMMARY:Ambiente: dichiarazione MUD 2024
LOCATION:Online
PRIORITY:3
TRANSP:0
END:VEVENT
END:VCALENDAR
