BEGIN:VCALENDAR
PRODID:-//AT Content Types//AT Event//EN
VERSION:1.0
BEGIN:VEVENT
DTSTART:20161128T140000Z
DTEND:20161128T160000Z
DCREATED:20161124T154440Z
UID:ATEvent-1e29ed5d63e5458aad05db91b065a9c1
SEQUENCE:0
LAST-MODIFIED:20161124T154601Z
SUMMARY:Alternanza Scuola-Lavoro: un'Innovazione per il futuro
LOCATION:Bergamo
PRIORITY:3
TRANSP:0
END:VEVENT
END:VCALENDAR
