BEGIN:VCALENDAR
PRODID:-//AT Content Types//AT Event//EN
VERSION:1.0
BEGIN:VEVENT
DTSTART:20170413T130000Z
DTEND:20170413T133000Z
DCREATED:20170404T140553Z
UID:ATEvent-04896f4ca7c54b9f932c0bdc07974eed
SEQUENCE:0
LAST-MODIFIED:20170404T140601Z
SUMMARY:Air Leak e ottimizzazione sistemi aria compressa
DESCRIPTION:Webinar
LOCATION:Sul web
PRIORITY:3
TRANSP:0
END:VEVENT
END:VCALENDAR
