BEGIN:VCALENDAR
PRODID:-//AT Content Types//AT Event//EN
VERSION:1.0
BEGIN:VEVENT
DTSTART:20241104T170000Z
DTEND:20241104T183000Z
DCREATED:20241011T143959Z
UID:ATEvent-1e14176a88a34bc09372a1f6a2d8e2be
SEQUENCE:0
LAST-MODIFIED:20241014T203255Z
SUMMARY:AI e Robotica: le opportunità di innovazione per la manifattura
DESCRIPTION:L'evento esplorerà le potenzialità dell'Intelligenza Art
 ificiale\, con particolare attenzione alle applicazioni in robotica\, 
 offrendo spunti pratici e una visione strategica per supportare le imp
 rese nell'adozione di questa tecnologia trasformativa.
LOCATION:Monza
PRIORITY:3
TRANSP:0
END:VEVENT
END:VCALENDAR
