BEGIN:VCALENDAR
PRODID:-//AT Content Types//AT Event//EN
VERSION:2.0
METHOD:PUBLISH
BEGIN:VEVENT
DTSTAMP:20260421T175836Z
CREATED:20220411T134216Z
UID:ATEvent-ff201c5f0c924fd9a4f96e3f9694ee02
LAST-MODIFIED:20220411T134229Z
SUMMARY:Agenzia ICE & Confindustria Bergamo: una piattaforma per la promozione all'estero delle aziende associate
DTSTART:20220413T080000Z
DTEND:20220413T100000Z
LOCATION:On line
CLASS:PUBLIC
END:VEVENT
END:VCALENDAR
