BEGIN:VCALENDAR
PRODID:-//AT Content Types//AT Event//EN
VERSION:2.0
METHOD:PUBLISH
BEGIN:VEVENT
DTSTAMP:20260422T192955Z
CREATED:20220926T115556Z
UID:ATEvent-2a85d4cc5b4447dfa2652a8f4a8136aa
LAST-MODIFIED:20220926T115708Z
SUMMARY:77° Assemblea Confindustria Mantova. Evoluzioni: crescita\, territorio\, impresa
DTSTART:20220928T140000Z
DTEND:20220928T170000Z
LOCATION:Mantova
CLASS:PUBLIC
END:VEVENT
END:VCALENDAR
