BEGIN:VCALENDAR
PRODID:-//AT Content Types//AT Event//EN
VERSION:1.0
BEGIN:VEVENT
DTSTART:20211011T143000Z
DTEND:20211011T170000Z
DCREATED:20211005T161855Z
UID:ATEvent-1f0d535024c54a489e4a27f803c1908c
SEQUENCE:0
LAST-MODIFIED:20211007T150501Z
SUMMARY:76° Assemblea Confindustria Mantova
DESCRIPTION:Mutazioni: innovazione\, territorio e cultura
LOCATION:Mantova e On line
PRIORITY:3
TRANSP:0
END:VEVENT
END:VCALENDAR
