BEGIN:VCALENDAR
PRODID:-//AT Content Types//AT Event//EN
VERSION:2.0
METHOD:PUBLISH
BEGIN:VEVENT
DTSTAMP:20260421T201153Z
CREATED:20211225T101206Z
UID:ATEvent-a2aab3c9361a4cc88b77f401d773bea3
LAST-MODIFIED:20211225T102132Z
SUMMARY:50 traguardi per la Lombardia
DTSTART:20211220T173000Z
DTEND:20211220T183000Z
CLASS:PUBLIC
END:VEVENT
END:VCALENDAR
