BEGIN:VCALENDAR
PRODID:-//AT Content Types//AT Event//EN
VERSION:2.0
METHOD:PUBLISH
BEGIN:VEVENT
DTSTAMP:20260423T174227Z
CREATED:20190520T160021Z
UID:ATEvent-256146aec77c46f892f6175a90c101d0
LAST-MODIFIED:20190520T160053Z
SUMMARY:5 anni per 5 prospettive sul futuro
DTSTART:20190531T114000Z
DTEND:20190531T153000Z
DESCRIPTION:Assemblea Generale 2019 - AFIL
LOCATION:Castellanza (VA)
CLASS:PUBLIC
END:VEVENT
END:VCALENDAR
