BEGIN:VCALENDAR
PRODID:-//AT Content Types//AT Event//EN
VERSION:2.0
METHOD:PUBLISH
BEGIN:VEVENT
DTSTAMP:20260424T041055Z
CREATED:20200520T140153Z
UID:ATEvent-3474d880225f4a1393b99b3b5028980f
LAST-MODIFIED:20200520T140244Z
SUMMARY:4th Biobased Economy Conference
DTSTART:20200605T070000Z
DTEND:20200605T160000Z
DESCRIPTION:B2B online sul tema della Bioeconomia
LOCATION:On line
CLASS:PUBLIC
END:VEVENT
END:VCALENDAR
