BEGIN:VCALENDAR
PRODID:-//AT Content Types//AT Event//EN
VERSION:2.0
METHOD:PUBLISH
BEGIN:VEVENT
DTSTAMP:20260419T175754Z
CREATED:20221026T131626Z
UID:ATEvent-09758c1ccea945999c90510fe3f608e3
LAST-MODIFIED:20221111T140914Z
SUMMARY:Africa: supporto alle PMI europee del settore energia nel mercato dell'Africa subsahariana
DTSTART:20221114T093000Z
DTEND:20221114T120000Z
LOCATION:Milano
CLASS:PUBLIC
END:VEVENT
END:VCALENDAR
