BEGIN:VCALENDAR
PRODID:-//AT Content Types//AT Event//EN
VERSION:2.0
METHOD:PUBLISH
BEGIN:VEVENT
DTSTAMP:20260424T140232Z
CREATED:20230320T202038Z
UID:ATEvent-14e881eb4e914a2fafa06616110a6b70
LAST-MODIFIED:20230320T202203Z
SUMMARY:2 ore in azienda presso DazeTechnology Srl
DTSTART:20230404T143000Z
DTEND:20230404T163000Z
LOCATION:Almenno San Bartolomeo (BG)
CLASS:PUBLIC
END:VEVENT
END:VCALENDAR
