BEGIN:VCALENDAR
PRODID:-//AT Content Types//AT Event//EN
VERSION:2.0
METHOD:PUBLISH
BEGIN:VEVENT
DTSTAMP:20260423T154144Z
CREATED:20190121T170423Z
UID:ATEvent-e0dc50cb7ef04005a72684aa3823c6b9
LAST-MODIFIED:20190121T170451Z
SUMMARY:125 anni di storia degli imprenditori bresciani
DTSTART:20190131T160000Z
DTEND:20190131T183000Z
DESCRIPTION:la presentazione del libro di AIB
LOCATION:Brescia
CLASS:PUBLIC
END:VEVENT
END:VCALENDAR
